Workbook
Name _Col1_iNdEx_2: #REF!
Name _Col2_iNdEx_3: #REF!
Name _Col3_iNdEx_4: #REF!
Name _Col4_iNdEx_5: #REF!
Name _Col5_iNdEx_6: #REF!
Name _Row0_TCol0_iNdEx_1: #REF!
Name _Row1_iNdEx_7: #REF!
Name _Row10_iNdEx_16: #REF!
Name _Row11_iNdEx_17: #REF!
Name _Row12_iNdEx_18: #REF!
Name _Row13_iNdEx_19: #REF!
Name _Row14_iNdEx_20: #REF!
Name _Row15_iNdEx_21: #REF!
Name _Row16_iNdEx_22: #REF!
Name _Row17_iNdEx_23: #REF!
Name _Row18_iNdEx_24: #REF!
Name _Row19_iNdEx_25: #REF!
Name _Row2_iNdEx_8: #REF!
Name _Row20_iNdEx_26: #REF!
Name _Row21_iNdEx_27: #REF!
Name _Row22_iNdEx_28: #REF!
Name _Row23_iNdEx_29: #REF!
Name _Row24_iNdEx_30: #REF!
Name _Row25_iNdEx_31: #REF!
Name _Row26_iNdEx_32: #REF!
Name _Row27_iNdEx_33: #REF!
Name _Row28_iNdEx_34: #REF!
Name _Row29_iNdEx_35: #REF!
Name _Row3_iNdEx_9: #REF!
Name _Row30_iNdEx_36: #REF!
Name _Row31_iNdEx_37: #REF!
Name _Row32_iNdEx_38: #REF!
Name _Row33_iNdEx_39: #REF!
Name _Row34_iNdEx_40: #REF!
Name _Row35_iNdEx_41: #REF!
Name _Row36_iNdEx_42: #REF!
Name _Row37_iNdEx_43: #REF!
Name _Row38_iNdEx_44: #REF!
Name _Row39_iNdEx_45: #REF!
Name _Row4_iNdEx_10: #REF!
Name _Row40_iNdEx_46: #REF!
Name _Row41_iNdEx_47: #REF!
Name _Row42_iNdEx_48: #REF!
Name _Row43_iNdEx_49: #REF!
Name _Row44_iNdEx_50: #REF!
Name _Row45_iNdEx_51: #REF!
Name _Row46_iNdEx_52: #REF!
Name _Row47_iNdEx_53: #REF!
Name _Row48_iNdEx_54: #REF!
Name _Row49_iNdEx_55: #REF!
Name _Row5_iNdEx_11: #REF!
Name _Row50_iNdEx_56: #REF!
Name _Row51_iNdEx_57: #REF!
Name _Row52_iNdEx_58: #REF!
Name _Row53_iNdEx_59: #REF!
Name _Row54_iNdEx_60: #REF!
Name _Row55_iNdEx_61: #REF!
Name _Row56_iNdEx_62: #REF!
Name _Row57_iNdEx_63: #REF!
Name _Row6_iNdEx_12: #REF!

Sheet Table of contents
B4: Sustainability Fact Book 2024
B6: INTRODUCTION | D6: SOCIAL
B7: Introduction | D7: Collective bargaining
B8: Change log | D8: Conflict resolution
B9: Nordic societies | D9: Accessible finance
B10: Sustainability Accounting Standards Board Index (SASB Index) | D10: Volunteering
B11: Sustainable Finance Disclosure Regulation mandatory Principal Adverse Impact Indicators (SFDR PAI Indicators) | D11: Employees
D12: Diversity, Equity and Inclusion
B13: SUSTAINABLE FINANCE | D13: Health and safety
B14: Sustainable finance
B15: Active ownership | D15: GOVERNANCE
D16: Management
B17: ENVIRONMENT | D17: Training
B18: Breakdown of baseline changes | D18: Danske Bank Policies
B19: Energy consumption
B20: Electricity consumption
B21: Heat consumption
B22: Road transport
B23: Air transport
B24: Paper consumption
B25: Carbon neutralisation
B26: Breakdown of indirect and direct CO2e emissions
B27: Other consumption
B29: Disclaimer:
B30: This publication has been prepared by Danske Bank for information purposes only. It is not an offer or solicitation of any offers to purchase or sell any securities, currency or financial instruments. Whilst reasonable care has been taken to ensure that the content of this publication is not untrue or misleading, no representation is made as to its accuracy or completeness, and no liability is accepted for any loss arising from reliance on it. Danske Bank, its affiliates or staff may perform business services, hold, establish, change or cease to hold positions in any securities, currency or financial instrument mentioned in this publication. Danske Bank Group’s research analysts are not permitted to invest in securities under coverage in their research sector. This publication is not intended for personal customers in the UK or any person in the US. Danske Bank is authorised by the Danish Financial Supervisory Authority (Finanstilsynet) and subject to limited regulation by the Financial Conduct Authority and the Prudential Regulation Authority for the conduct of business in the UK. Details on the extent of our regulation by the Financial Conduct Authority and the Prudential Regulation Authority are available from us on request. Member of the London Stock Exchange. Copyright © 2025 Danske Bank A/S. All rights reserved. This publication is protected by copyright and may not be reproduced in whole or in part without permission.
B32: For further information:
B33: Danske Bank Group Sustainability DK-1577 København V, Denmark Email — sustainability@danskebank.com

Sheet Introduction
B4: Introduction
B6: The Sustainability Fact Book aims to increase transparency and provide our stakeholders with relevant information and data about Danske Bank’s sustainability performance. How to read this report: • The Sustainability Fact Book 2024 includes environmental, social and governance (ESG) data and information based on stakeholder interest and demand. • When available, five-year historical data is reported (otherwise marked with -). Environmental data has been reported starting from 2019, as 2019 serves as the target baseline. Older historical data (since 2009, when available) can be found in Danske Bank's previous Sustainability Fact Books, available at https://danskebank.com/sustainability/publications-and-policies. • Because reporting principles are reviewed and updated on an ongoing basis year by year, accounting inconsistency may exist when comparing historical data. • Minor differences as a result of rounding may exist in some historical data when this data is compared against previously published data. • GDPR compliance has had implications for certain types of employee data, so caution should be exercised if making direct comparisons. • Some selected data points are no longer reported due to changed accounting and reporting procedures and/or the closure of activities. • Selected data in the Sustainability Fact Book 2024 has been verified by a third party. For further details on our reporting principles for ESG data included in the statutory Sustainability Statement, please refer to the Sustainability Statement in Danske Bank's Annual Report 2024.

Sheet Change log
B4: Change log
B6: Date | C6: Changes and/or additions | D6: Link to sheet
B7: 28.04.2025 | C7: The following sentence has been added to the sheet description: "The market-based methodology has been used to calculate Scope 1 and Scope 2 emissions." | D7: Breakdown of baseline changes
B8: 13.10.2025 | C8: The sheet has been updated with corrected numbers relating to Scope 2 emissions from heating. These numbers had been double counted resulting in a minor overstatement for the emissions. | D8: Breakdown of baseline changes
C9: The sheet has been updated with corrected numbers relating to Scope 2 emissions from heating. These numbers had been double counted resulting in a minor overstatement for the emissions. | D9: Breakdown of indirect & direct
C10: The sheet has been updated with corrected numbers relating to Scope 2 emissions from heating. These numbers had been double counted resulting in a minor overstatement for the emissions. | D10: Carbon neutralisation

Sheet Nordic societies
B4: Nordic societies
B6: Since 1871, Danske Bank has been creating opportunities and helping people and businesses realise their potential and ambitions – and we have evolved in tandem with the societies around us. In an international context, the Nordic societies (Denmark, Finland, the Faroe Islands, Iceland, Norway and Sweden) are outliers from a sustainability perspective due to their relatively advanced position in this field. One particular reason for this is that these countries have extensive regulation of their labour markets, pension systems, social security, unemployment benefits, wage negotiation schemes, health insurance and education. This extensive regulation creates common rules that apply to all parties in society. This means that there are often mandatory requirements unrelated to a specific business that are nonetheless adhered to by all businesses. Because laws and regulations typically do not form part of corporate disclosure, the true nature of commitments remains unnoticed in ESG analyses of businesses. The Nordic Council – the Nordic Council of Ministers is an organisation that serves to coordinate policies across the Nordic region. The council has a website that provides updated information on how Nordic societies function in all aspects of social life and on what to expect in terms of rights and obligations. This information source provides easy-to-use and up-to-date information on how Nordic societies function. Danske Bank is under obligation to follow applicable laws, rules, regulations and customs in its core markets. In general, how we fulfil such systemic requirements is not a disclosure item in our external reporting. Consequently, understanding how the Nordic societies are governed when assessing the performance of the Danske Bank Group is highly relevant. The following link directs to a website where this information is provided:
B7: norden.org/en
B9: With regard to property and construction, all Nordic countries operate in extensive regulatory frameworks that stipulate how to design, plan and construct real estate property. Such regulation typically addresses accessibility requirements (ensuring access for people with disabilities), indoor climate and ventilation, energy consumption, insulation and technical requirements that ensure the technical life expectancy of a building. Such requirements apply to new constructions and to renovation work or for properties purposed to operate activities directed at the public – for instance commercial services or public services. Regulation applies across the board, including to Danske Bank in its role as an employer and in its role as a provider of financial services. The regulatory context in which businesses operate is paramount, not only for understanding a business’s societal commitment but also when valuing real estate property. A selection of related links is provided below (some websites are available in local language only).
B11: Denmark | C11: på dansk | E11: trafikstyrelsen.dk | H11: bygst.dk | J11: bsf.dk | L11: in English | N11: en.trafikstyrelsen.dk | Q11: en.bygst.dk
B13: Finland | C13: Suomen kielellä | E13: ym.fi | H13: ym.fi/sv | L13: in English | N13: ym.fi/en
B15: Norway | C15: paa norsk | E15: dibk.no | H15: dibk.no/regelverk | L15: in English | N15: n/a
B17: Sweden | C17: på svenska | E17: boverket.se | L17: in English | N17: boverket.se/en

Sheet SASB Index
B4: Sustainability Accounting Standards Board Index - Commercial Banks Standard
B5: The Sustainability Accounting Standards Board (SASB) index provides references on where to find relevant information in Danske Bank’s current 2024 disclosures applied in the SASB's industry-specific standard for commercial banks. We cannot guarantee the accuracy, completeness, reasonableness or sufficiency of the information in relation to the SASB reporting standard. We solely confirm that references from the SASB index to reports and websites have been made to the best of our ability and that no information has knowingly been misstated or omitted. No new or additional information that has not been previously disclosed is provided in the SASB cross-reference table. Reference list: - Annual Report 2024 (AR) - Sustainability Statement (part of of Annual Report 2024) (SS) - Risk Management 2024 (RM) - Sustainability Fact Book 2024 (SFB) - Fact Book Q4 2024 (Q4 FB)
B9: Topic | C9: Accounting metric | D9: Reference | G9: SASB code | H9: Comment
B10: Data Security | C10: (1) Number of data breaches, (2) percentage involving personally identifiable information (PII), (3) number of account holders affected | D10: Data is currently not reported | G10: FN-CB-230a.1 | H10: We will consider whether inclusion in future reporting would be relevant.
C11: Description of approach to identifying and addressing data security risks | D11: RM: Information technology and security risk management; Data risk management | G11: FN-CB-230a.2
B12: Financial Inclusion and Capacity Building | C12: (1) Number and (2) amount of loans outstanding qualified to programmes designed to promote small business and community development | D12: Not applicable for Danske Bank to report on | G12: FN-CB-240a.1 | H12: The metric was omitted based on the lack of applicability Nordic markets.
C13: (1) Number and (2) amount of past due and nonaccrual loans qualified to programmes designed to promote small business and community development | D13: Not applicable for Danske Bank to report on | G13: FN-CB-240a.2 | H13: The metric was omitted based on the lack of applicability Nordic markets.
C14: Number of no-cost retail current accounts provided to previously unbanked or underbanked customers | D14: Not applicable for Danske Bank to report on | G14: FN-CB-240a.3 | H14: The metric was omitted based on the lack of applicability in the Nordic countries.
C15: Number of participants in financial literacy initiatives for unbanked, underbanked or underserved customers * | D15: Not applicable for Danske Bank to report on | G15: FN-CB-240a.4 | H15: The metric was omitted based on the lack of applicability for the Nordic markets.
B16: Incorporation of Environmental, Social, and Governance Factors in Credit Analysis | C16: Commercial and industrial credit exposure, by industry | D16: RM: Pillar III ESG Disclosures Templates 1-10 | G16: FN-CB-410a.1 | H16: As a European bank, Danske Bank references The Statistical Classification of Economic Activities in the European Community (NACE) for classifying counterparties. We do not use North American Industry Classification System (NAICS).
C17: Description of approach to incorporation of environmental, social, and governance (ESG) factors in credit analysis | D17: RM: Sustainability risk SS: Climate-related risks and resilience analysis | G17: FN-CB-410a.2 | H17: We do not disclose on project finance separately. Also, information about climate-related risks and resilience analysis can be found as part of our Sustainability Statement in Danske Bank's Annual Report 2024.
B18: Business Ethics | C18: Total amount of monetary losses as a result of legal proceedings associated with fraud, insider trading, anti-trust, anti-competitive behaviour, market manipulation, malpractice, or other related financial industry laws or regulations | D18: AR: Note G27c: Guarentees, commitments and contigents liabilities; Note G24b: Other assets and other liabilities, additional provisions made for regulatory and legal proceedings | G18: FN-CB-510a.1 | H18: See note G24 for the provisions for Regulatory and Legal proceeding accrued in 2024. See G27 for contingent liabilities that do not fulfil the criteria of a provision.
C19: Description of whistleblower policies and procedures | D19: SS: Share Your Concern and Whistleblowing System Find our Whistleblowing Policy at www.danskebank.com/about-us/corporate-governance/compliance | G19: FN-CB-510a.2 | H19: Information about Danske Bank's whistleblowing system can be found as part of our Sustainability Statement in Danske Bank's Annual Report 2024.
B20: Systemic Risk Management | C20: Global Systemically Important Bank (G-SIB) score, by category | D20: Find information on indicators for assessing systemically important bank at www.danskebank.com/investor-relations/regulation | G20: FN-CB-550a.1 | H20: We are not G-SIB but a national Systemically Important Financial Institution (SIFI), which triggers a range of additional requirements.
C21: Description of approach to incorporation of results of mandatory and voluntary stress tests into capital adequacy planning, long-term corporate strategy, and other business activities | D21: AR: Capital and liquidity management RM: Sustainability and credit risk; Capital risk management; Credit Risk Management Stress Testing; Pillar III Templates 1-10 | G21: FN-CB-550a.2 | H21: Danske Bank is required to maintain pillar II add-ons related to governance factors. Further stress testing requirements expected for E & S factors for capital adequacy planning purposes.
D22: Access our report on Additional Pillar III disclosure at www.danskebank.com/investor-relations/reports
D23: Find our separate report on ICAAP report at www.danskebank.com/investor-relations/reports
B25: Activity metric | D25: Reference | G25: SASB code | H25: Comment
B26: (1) Number and (2) value of checking and savings accounts by segment: (a) personal and (b) small business | D26: Q4 FB: Personal Customers, income statement; Business Customers, income statement | G26: FN-CB-000.A
B27: (1) Number and (2) value of loans by segment: (a) personal, (b) small business, and (c) corporate | D27: Q4 FB: Personal Customers, credit exposure; Business Customers, credit exposure; Large Corporates & Institutions, credit exposure | G27: FN-CB-000.A
B29: Find the most recent reports here.

Sheet SFDR PAI Indicators
B4: Sustainable Finance Disclosure Regulation - Principal Adverse Impact Indicators
B6: We report on relevant mandatory Principal Adverse Impact (PAI) indicators included in the EU's Sustainable Financial Disclosure Regulation (SFDR). The data covers Danske Bank's own operations only. Danske Bank's Statement on principal adverse impacts of investment decisions on sustainability factors can be found at www.danskebank.com/sustainability/publications-and-policies.
B8: Area | C8: Topic | D8: Accounting metric | E8: 2024 | F8: 2023 | G8: 2022 | H8: Unit | I8: Comment
B9: Environmental
B10: GHG emissions | C10: GHG Emissions | D10: Scope 1 | E10: ='Breakdown of baseline changes'!E10 -> 215.44735 | F10: ='Breakdown of baseline changes'!H10 -> 200.76072 | G10: ='Breakdown of indirect & direct '!E13 -> 244.61404 | H10: tonnes
D11: Scope 2 | E11: ='Breakdown of baseline changes'!F10 -> 1657.7516 | F11: ='Breakdown of baseline changes'!I10 -> 1753.3958 | G11: ='Breakdown of indirect & direct '!E53 -> 2062 | H11: tonnes | I11: Market-based
D12: Scope 3 | E12: ='Breakdown of baseline changes'!G10 -> 8597.6858 | F12: ='Breakdown of baseline changes'!J10 -> 9231.1101 | G12: ='Breakdown of indirect & direct '!E105 -> 7010.2409 | H12: tonnes | I12: Paper consumption, business travel, working from home
D13: Total GHG | E13: =SUM(E10:E12) -> 10470.885 | F13: =SUM(F10:F12) -> 11185.267 | G13: =SUM(G10:G12) -> 9316.8549 | H13: tonnes
C14: Share of non-renewable energy | D14: Renewable energy use | E14: =E16*E15% -> 37449.723 | F14: =F16*F15% -> 37106.942 | G14: =G16*G15% -> 42052.898 | H14: MWh
D15: Percentage renewable energy consumed | E15: ='Energy consumption'!C100 -> 47 | F15: ='Energy consumption'!D100 -> 53 | G15: ='Energy consumption'!E100 -> 51 | H15: % | I15: Related to own consumption (scope 1 and 2)
C16: Energy consumption intensity per high impact climate sector | D16: Total Energy Consumption | E16: ='Energy consumption'!C36 -> 79680.261 | F16: ='Energy consumption'!D36 -> 70013.098 | G16: ='Energy consumption'!E36 -> 82456.663 | H16: MWh
D17: Total Revenue1 | E17: See comment | F17: 26.7 | G17: -1.7 | H17: billion DKK | I17: See "Profit before tax" in Danske Bank Annual Report 2024: Financial highlights - Danske Bank Group: Income statement
B18: Biodiversity | C18: Activities negatively affecting biodiversity-sensitive areas | D18: Number of sites environmentally sensitive areas | E18: 0 | F18: 0 | G18: 0 | H18: number
B19: Water | C19: Emissions to water | D19: Total water discharged | E19: 0 | F19: 0 | G19: 0 | H19: m3 | I19: No discharges to water except for hygiene water
D20: Water stress exposure percentage | E20: 0 | F20: 0 | G20: 0 | H20: % | I20: No data, and not material for a bank to measure
B21: Waste | C21: Hazardous waste ratio | D21: Hazardous waste | E21: 0 | F21: 0 | G21: 0 | H21: tonnes | I21: No data, and not material for a bank to measure
B22: Social and Employee, respect for human rights, anti-corruption and anti-bribery matters
B23: Social and employee matters | C23: Unadjusted gender pay gap | D23: Mean Gender Pay Gap1 | E23: 24.6 | F23: =100-'Diversity, Equity and Inclusion'!D35 -> 23.3 | G23: =100-'Diversity, Equity and Inclusion'!E35 -> 24 | H23: % | I23: Median Gender Pay Gap
C24: Policies to monitor compliance with the UNGC principles or OECD Guidelines for Multinational Enterprises | D24: UN Global Compact signatory | E24: yes | F24: yes | G24: yes | H24: yes/no
C25: Board gender diversity | D25: % Women on the Board of Directors 1 | E25: =Management!C11 -> 37.5 | F25: =Management!D11 -> 38 | G25: =Management!E11 -> 44 | H25: % | I25: Elected at the Annual General Meeting. 50% women on the Board of Directors if employee-elected members are also included.
B26: 1 Verified by third party.

Sheet Sustainable finance
B4: Sustainable finance
B6: Green bonds issued by Danske Bank (DB) (DKK billions) | C6: 2024 | D6: 2023 | E6: 2022 | F6: 2021 | G6: 2020
C7: 33.3 | D7: 33.4 | E7: 13 | F7: 7.4 | G7: 3.7
B9: Green bonds issued by Realkredit Danmark (RD) (DKK billions) | C9: 2024 | D9: 2023 | E9: 2022 | F9: 2021 | G9: 2020
C10: 29.1 | D10: 27.2 | E10: 21.5 | F10: 17 | G10: 9.8
B12: Bloomberg League table share of arranged Sustainable Bonds (DKK billions) 1,2 | C12: 2024 | D12: 2023 | E12: 2022 | F12: 2021 | G12: 2020
C13: 89.7 | D13: 93.5 | E13: 64.4 | F13: 77.3 | G13: 40.8
B14: 1 Sustainable bonds comprise green bonds, social bonds, sustainability bonds and sustainability-linked bonds.
B15: 2 The data for 2020-2023 has been restated due to the inclusion of sustainability-linked bonds.
B17: Green loans granted to customers in DB (DKK billions) | C17: 2024 | D17: 2023 | E17: 2022 | F17: 2021 | G17: 2020
C18: 49.4 | D18: 41.9 | E18: 34.8 | F18: 20.6 | G18: 12.5
B20: Green loans granted to customers in RD (DKK billions) | C20: 2024 | D20: 2023 | E20: 2022 | F20: 2021 | G20: 2020
C21: 29 | D21: 27.1 | E21: 21.5 | F21: 16.9 | G21: 9.8
B23: Investments in the green transition by Danica (DKK billions) | C23: 2024 | D23: 2023 | E23: 2022 | F23: 2021 | G23: 2020
C24: 57.4 | D24: 55.4 | E24: 37.7 | F24: 33.5 | G24: 27.2
B26: AuM in ESG funds (Article 8) (DKK billions) 1, 2 | C26: 2024 | D26: 2023 | E26: 2022 | F26: 2021 | G26: 2020
C27: 572 | D27: 517 | E27: 465 | F27: 564 | G27: -
B28: 1 In 2021, the category 'Danske Invest Global Sustainable Future' was replaced by 'AuM in ESG funds (Article 8)' and 'AuM in funds with sustainability objective (Article 9)'.
B29: 2 Data for 2020-2022 are verified by third party.
B31: AuM in funds with sustainability objective (Article 9) (DKK billions)1,2 | C31: 2024 | D31: 2023 | E31: 2022 | F31: 2021 | G31: 2020
C32: 49 | D32: 53 | E32: 52 | F32: 65 | G32: -
B33: 1 In 2021, the category 'Danske Invest Global Sustainable Future' has been replaced by 'AuM in ESG funds (Article 8)' and 'AuM in funds with sustainability objective (Article 9)'.
B34: 2 Data for 2020-2023 are verified by third party.

Sheet Active ownership
B4: Sustainable finance: Active ownership
B6: Total Assets under Management (DKK billions) 1 | C6: 2024 | D6: 2023 | E6: 2022 | F6: 2021 | G6: 2020
C7: 880 | D7: 771 | E7: 670 | F7: 2007 | G7: 1765
B8: 1 The data for 2023 has been restated.
B10: Total number of ESG dialogues 1 | C10: 2024 | D10: 2023 | E10: 2022 | F10: 2021 | G10: 2020
C11: 2438 | D11: 1481 | E11: 1718 | F11: - | G11: -
B12: 1 The data includes Group data, i.e. Danica and Danske Invest.
B14: Total number of companies we have had dialogues with 1 | C14: 2024 | D14: 2023 | E14: 2022 | F14: 2021 | G14: 2020
C15: 1214 | D15: 809 | E15: 978 | F15: - | G15: -
B16: 1 The data includes Group data, i.e. Danica and Danske Invest.
B18: Total number of proposals 1 | C18: 2024 | D18: 2023 | E18: 2022 | F18: 2021 | G18: 2020
C19: 40730 | D19: 61926 | E19: 61373 | F19: - | G19: -
B20: 1 The data includes Group data, i.e. Danica and Danske Invest.
B22: Total number of general meetings 1 | C22: 2024 | D22: 2023 | E22: 2022 | F22: 2021 | G22: 2020
C23: 3307 | D23: 4972 | E23: 4957 | F23: - | G23: -
B24: 1 The data includes Group data, i.e. Danica and Danske Invest.

Sheet Breakdown of baseline changes
B4: Environment: Breakdown of historical baseline changes
B6: Data quality is improving on an ongoing basis. The chart below illustrates the material changes to our different environmental metrics, specifying how the baseline has changed with restated figures when material changes have been made to scopes. The market-based methodology has been used to calculate Scope 1 and Scope 2 emissions.
B8: Change | C8: Changed | D8: Version | E8: 2024 | H8: 2023 | K8: 2022 | N8: 2021 | Q8: 2020 | T8: 2019
E9: Scope 1 | F9: Scope 2 | G9: Scope 3 | H9: Scope 1 | I9: Scope 2 | J9: Scope 3 | K9: Scope 1 | L9: Scope 2 | M9: Scope 3 | N9: Scope 1 | O9: Scope 2 | P9: Scope 3 | Q9: Scope 1 | R9: Scope 2 | S9: Scope 3 | T9: Scope 1 | U9: Scope 2 | V9: Scope 3
B10: Restatement of our baseline for own operations emissions (scope 1, 2, and current scope 3) to enhance the accuracy of the 'Scope 3.6 business travel by air' model. | C10: 2024 | D10: 0.3 | E10: 215.44735 | F10: 1657.7516 | G10: 8597.6858 | H10: 200.76072 | I10: 1753.3958 | J10: 9231.1101 | K10: 244.61404 | L10: 2062.3607 | M10: 7010.2409 | N10: 643.04729 | O10: 2812.1901 | P10: 3886.8445 | Q10: 651.4545 | R10: 3209.2723 | S10: 8318.1016 | T10: 555.22274 | U10: 4550.4035 | V10: 17629.925
E11: 10470.885 | H11: 11185.267 | K11: 9317.2156 | N11: 7342.0819 | Q11: 12178.828 | T11: 22735.552
B12: Addition of emissions from employee benefit cars - Denmark. Restructure of emissions from business travel incorrectly reported in scope 1, moved to scope 3. Correction of emissions factor for district heating in Denmark | C12: 2023 | D12: 0.2 | E12: - | F12: - | G12: - | H12: 200.76072 | I12: 1753.3958 | J12: 7338.1217 | K12: 244.61404 | L12: 2062.3607 | M12: 6055.4974 | N12: 643.04729 | O12: 2812.1901 | P12: 3944.6012 | Q12: 651.4545 | R12: 3209.2723 | S12: 6537.5336 | T12: 555.22274 | U12: 4550.4035 | V12: 12196.095
E13: - | H13: 9292.2782 | K13: 8362.4722 | N13: 7399.8386 | Q13: 10398.26 | T13: 17301.721
B14: Addition of emissions from working from home | C14: 2022 | D14: 0.1 | E14: - | F14: - | G14: - | H14: - | I14: - | J14: - | K14: 468 | L14: 1871 | M14: 4641 | N14: 787 | O14: 2786 | P14: 2650.9384 | Q14: 810 | R14: 3119 | S14: 4956.5685 | T14: 790 | U14: 4480 | V14: 10340.682
E15: - | H15: - | K15: 6979 | N15: 6224 | Q15: 8886 | T15: 15611
B16: First reported | C16: N/A | D16: 0.0 | E16: - | F16: - | G16: - | H16: - | I16: - | J16: - | K16: - | L16: - | M16: - | N16: 787 | O16: 2786 | P16: 1161 | Q16: 810 | R16: 3119 | S16: 3942 | T16: 790 | U16: 4480 | V16: 9960
E17: - | H17: - | K17: - | N17: 4734 | Q17: 7871 | T17: 15230

Sheet Energy consumption
B4: Environment: Energy consumption
B6: Energy consumption of the Danske Bank Group – all data is reported from Q4-Q3 and covers our main operations in Denmark, Finland, Sweden, Norway, Northern Ireland, Ireland, Lithuania and India.
B8: The Danske Bank Group sold its operations in India in 2023. Therefore, no data is available for India for 2024 and onwards.
B10: Floor area — square metres occupied (average) | C10: 2024 | D10: 2023 | E10: 2022 | F10: 2021 | G10: 2020 | H10: 2019
B11: Total | C11: 465216 | D11: 450964.73 | E11: 463332.13 | F11: 509522.28 | G11: 528109.55 | H11: 539812.79
B12: Denmark | C12: 301531 | D12: 264178.28 | E12: 254837.38 | F12: 286443 | G12: 293901.23 | H12: 306041.09
B13: Finland | C13: 46527 | D13: 48590.926 | E13: 51105 | F13: 52306 | G13: 63332.027 | H13: 70189.548
B14: Sweden | C14: 30587 | D14: 33917 | E14: 34124.995 | F14: 37208 | G14: 37809.546 | H14: 41318.521
B15: Norway | C15: 22309 | D15: 23640.479 | E15: 26819.184 | F15: 30880 | G15: 35779.475 | H15: 33947.635
B16: Northern Ireland | C16: 23670 | D16: 23938.16 | E16: 26200.636 | F16: 26781 | G16: 27735.87 | H16: 29861.04
B17: Ireland | C17: 1047 | D17: 1046.8878 | E17: 1047 | F17: 1047 | G17: 1046.824 | H17: 1046.65
B18: Lithuania | C18: 39545 | D18: 39545 | E18: 50151.387 | F18: 60027 | G18: 53673.578 | H18: 42577.307
B19: India | C19: - | D19: 16108 | E19: 19046.553 | F19: 14831 | G19: 14831 | H19: 14831
B21: Number of FTEs 1,2 | C21: 2024 | D21: 2023 | E21: 2022 | F21: 2021 | G21: 2020 | H21: 2019
B22: Total | C22: 20063 | D22: 20440.296 | E22: 21395 | F22: 21855 | G22: 21973 | H22: 20767
B23: Denmark | C23: 9819.3383 | D23: 9778.7954 | E23: 10417.582 | F23: 10802.413 | G23: 11019.836 | H23: 10630.635
B24: Finland | C24: 1529.6299 | D24: 1542.6731 | E24: 1604.1519 | F24: 1722.25 | G24: 1815.8919 | H24: 1878.0694
B25: Sweden | C25: 1440.057 | D25: 1445.4659 | E25: 1441.0569 | F25: 1457.75 | G25: 1498.7715 | H25: 1451.2786
B26: Norway | C26: 926.55224 | D26: 1043.8016 | E26: 1078.3002 | F26: 1125.25 | G26: 1151.4763 | H26: 1106.1662
B27: Northern Ireland | C27: 1348.3066 | D27: 1379.3668 | E27: 1358.9554 | F27: 1414.75 | G27: 1421.0691 | H27: 1426.2819
B28: Ireland | C28: 45.048634 | D28: 44.996986 | E28: 46.813397 | F28: 46 | G28: 49.347541 | H28: 55.807397
B29: Lithuania | C29: 4405.483 | D29: 4165.4434 | E29: 4074.4414 | F29: 3879.75 | G29: 3747.3434 | H29: 3163.0251
B30: India | C30: - | D30: 1390.1451 | E30: 1373.2937 | F30: 1407.25 | G30: 1269.2186 | H30: 1055.5863
B31: Estimated countries | C31: 548.2335 | D31: - | E31: - | F31: - | G31: - | H31: -
B32: 1 The number of FTEs is provided by Group Finance and covers the average number of employees for the financial year from Q4 to Q3. In 2024, the total number of FTEs, includes number of FTEs from the estimated countries.
B33: 2 The number of FTEs for India is an average number of full-time employees of Q4 2022, Q1 2023 and Q2 2023. At the end of Q3 2023, no FTEs calculated in India due to the divestment/sale of Danske IT to InfoSys.
B35: Energy consumption in total (MWh) 1,2,3 | C35: 2024 | D35: 2023 | E35: 2022 | F35: 2021 | G35: 2020 | H35: 2019
B36: Total | C36: 79680.261 | D36: 70013.098 | E36: 82456.663 | F36: 93895.49 | G36: 99569.815 | H36: 107615
B37: Denmark | C37: 49874.469 | D37: 43895.079 | E37: 50220.382 | F37: 60103.574 | G37: 59442.008 | H37: 64074.592
B38: Finland | C38: 7217.5677 | D38: 6728.0052 | E38: 7365.7009 | F38: 7637.6615 | G38: 9425.3544 | H38: 11686.566
B39: Sweden | C39: 4949.6415 | D39: 3972.0441 | E39: 4044.0087 | F39: 4605.1725 | G39: 4851.4358 | H39: 7021.3118
B40: Norway | C40: 3766.0243 | D40: 4121.6446 | E40: 5364.0222 | F40: 5385.3211 | G40: 5806.6895 | H40: 6445.7211
B41: Northern Ireland | C41: 3882.736 | D41: 3601.174 | E41: 3790.732 | F41: 4756.19 | G41: 5720.586 | H41: 5833.983
B42: Ireland | C42: 77.405 | D42: 82.482 | E42: 118.494 | F42: 148.862 | G42: 148.235 | H42: 136.141
B43: Lithuania | C43: 7476.812 | D43: 6105.907 | E43: 10214.323 | F43: 10400.709 | G43: 12933.028 | H43: 10862.613
B44: India | C44: - | D44: 1506.7619 | E44: 1339 | F44: 858 | G44: 1242.479 | H44: 1554.4661
B45: Estimated countries | C45: 2435.6058 | D45: - | E45: - | F45: - | G45: - | H45: -
B46: 1 From 2019 and onwards, the Swedish energy consumption also included district cooling.
B47: 2 Due to changes in 2024 reporting system, estimated country consumption data is now in a different format, separate from country totals. This change is visible only from 2024, leaving previous years' data empty.
B48: 3 2019-2023 verified by third party .
...

Sheet Electricity consumption
B4: Environment: Electricity consumption
B6: Electricity consumption of the Danske Bank Group – all data is reported from Q4-Q3 and covers our main operations in Denmark, Finland, Sweden, Norway, Northern Ireland, Ireland, Lithuania and India.
B8: The Danske Bank Group sold its operations in India in 2023. Therefore, no data is available for India for 2024.
B10: Electricity consumption — total (MWh) 1 | C10: 2024 | D10: 2023 | E10: 2022 | F10: 2021 | G10: 2020 | H10: 2019
B11: Total | C11: 37510.821 | D11: 37035.584 | E11: 41748.469 | F11: 43017.978 | G11: 52891.272 | H11: 56451.256
B12: Denmark | C12: 20366.79 | D12: 20546.271 | E12: 21674.581 | F12: 23221.304 | G12: 27242.613 | H12: 30710.705
B13: Finland | C13: 3387.1462 | D13: 2994.4196 | E13: 3205.1948 | F13: 3863.0896 | G13: 5248.5315 | H13: 5459.0115
B14: Sweden | C14: 1931.3498 | D14: 2116.1714 | E14: 1929.6285 | F14: 2129.7093 | G14: 2447.762 | H14: 3056.3024
B15: Norway | C15: 2010.0897 | D15: 2216.8507 | E15: 3140.5537 | F15: 3353.9203 | G15: 4234.2695 | H15: 4515.0436
B16: Northern Ireland | C16: 2889.633 | D16: 2743.82 | E16: 2764.12 | F16: 2666.32 | G16: 3144.686 | H16: 3697.822
B17: Ireland | C17: 77.405 | D17: 82.482 | E17: 118.494 | F17: 148.862 | G17: 148.235 | H17: 136.141
B18: Lithuania | C18: 5823.384 | D18: 4828.807 | E18: 7576.8973 | F18: 6776.7726 | G18: 9182.696 | H18: 7321.765
B19: India | C19: - | D19: 1506.7619 | E19: 1339 | F19: 858 | G19: 1242.479 | H19: 1554.4661
B20: Estimated countries | C20: 1025.0236 | D20: - | E20: - | F20: - | G20: - | H20: -
B21: 1 Due to changes in 2024 reporting system, estimated country consumption data is now in a different format, separate from country totals. This change is visible only from 2024, leaving previous years' data empty.
B23: Electricity consumption per employee (MWh/FTE) 1 | C23: 2024 | D23: 2023 | E23: 2022 | F23: 2021 | G23: 2020 | H23: 2019
B24: Total | C24: 1.8696844 | D24: 1.7813544 | E24: 1.9513559 | F24: 1.97 | G24: 2.407108 | H24: 2.718335
B25: Denmark | C25: 2.074151 | D25: 2.1011045 | E25: 2.0805769 | F25: 2.1496406 | G25: 2.4721433 | H25: 2.8888871
B26: Finland | C26: 2.2143567 | D26: 1.941059 | E26: 1.9980618 | F26: 2.2430481 | G26: 2.8903327 | H26: 2.9067145
B27: Sweden | C27: 1.3411621 | D27: 1.4640064 | E27: 1.339037 | F27: 1.4609565 | G27: 1.6331788 | H27: 2.1059378
B28: Norway | C28: 2.1694294 | D28: 2.1238237 | E28: 2.9125041 | F28: 2.9806001 | G28: 3.6772529 | H28: 4.0817047
B29: Northern Ireland | C29: 2.1431572 | D29: 1.9891881 | E29: 2.0340034 | F29: 1.8846581 | G29: 2.2129016 | H29: 2.5926305
B30: Ireland | C30: 1.7182541 | D30: 1.8330561 | E30: 2.5311985 | F30: 3.2361304 | G30: 3.0038984 | H30: 2.4394795
B31: Lithuania | C31: 1.3218492 | D31: 1.159254 | E31: 1.8596162 | F31: 1.7467034 | G31: 2.4504549 | H31: 2.3147983
B32: India | C32: - | D32: 1.0838883 | E32: 0.97502814 | F32: 0.60969977 | G32: 0.97893225 | H32: 1.4726092
B33: 1 In 2024, the total electricity consumption per employee (MWh/FTE) is calculated by dividing the total electricity consumption by the total number of FTEs, including those in estimated countries.
B35: Electricity consumption per m2 (kWh/m2) | C35: 2024 | D35: 2023 | E35: 2022 | F35: 2021 | G35: 2020 | H35: 2019
B36: Total | C36: 81 | D36: 82.125233 | E36: 90.104843 | F36: 84.420762 | G36: 100.15208 | H36: 104.57562
B37: Denmark | C37: 67.544598 | D37: 77.774264 | E37: 85.052597 | F37: 81.026096 | G37: 92.69309 | H37: 100.3483
B38: Finland | C38: 72.799583 | D38: 61.625078 | E38: 62.717831 | F38: 73.943592 | G38: 82.873259 | H38: 77.775276
B39: Sweden | C39: 63.142831 | D39: 62.392646 | E39: 56.545898 | F39: 57.216156 | G39: 64.739257 | H39: 73.969308
B40: Norway | C40: 90.102186 | D40: 93.773507 | E40: 117.10102 | F40: 108.54615 | G40: 118.34353 | H40: 133.00024
B41: Northern Ireland | C41: 122.07997 | D41: 114.62117 | E41: 105.4982 | F41: 99.456359 | G41: 113.37975 | H41: 123.83433
B42: Ireland | C42: 73.930277 | D42: 78.787812 | E42: 113.17479 | F42: 142.17956 | G42: 141.6045 | H42: 130.07309
B43: Lithuania | C43: 147.25968 | D43: 122.10917 | E43: 151.08051 | F43: 113.42569 | G43: 171.0841 | H43: 171.96402
B44: India | C44: - | D44: 93.541218 | E44: 70.301433 | F44: 57.851797 | G44: 83.775807 | H44: 104.81195
B46: Electricity consumption — head office (MWh) | C46: 2024 | D46: 2023 | E46: 2022 | F46: 2021 | G46: 2020 | H46: 2019
B47: Total | C47: 26861 | D47: 26838.023 | E47: 29771.713 | F47: 30669 | G47: 37134.886 | H47: 38365
B48: Denmark | C48: 14518.365 | D48: 14426.415 | E48: 14254.838 | F48: 15451 | G48: 18334.504 | H48: 20228.326
B49: Finland | C49: 2597.0425 | D49: 2114.6497 | E49: 2282.3476 | F49: 2712 | G49: 2738.9381 | H49: 3095.55
...

Sheet Heat consumption
B4: Environment: Heat consumption
B6: Heat consumption of the Danske Bank Group – all data is reported from Q4-Q3 and covers our main operations in Denmark, Finland, Sweden, Norway, Northern Ireland, Ireland, Lithuania and India.
B8: The Danske Bank Group sold its operations in India in 2023. Therefore, no data is available for India for 2024.
B10: Heat consumption — total (MWh) 1,2,3 | C10: 2024 | D10: 2023 | E10: 2022 | F10: 2021 | G10: 2020 | H10: 2019
B11: Total | C11: =SUM(C12:C20) -> 42169.44 | D11: 32977.514 | E11: 40708.194 | F11: 50877.512 | G11: 46678.543 | H11: 51164.138
B12: Denmark | C12: 29507.678 | D12: 23348.808 | E12: 28545.801 | F12: 36882.27 | G12: 32199.395 | H12: 33363.887
B13: Finland | C13: 3830.4215 | D13: 3733.5856 | E13: 4160.5061 | F13: 3774.5719 | G13: 4176.8229 | H13: 6227.5544
B14: Sweden | C14: 3018.2917 | D14: 1855.8727 | E14: 2114.3803 | F14: 2475.4631 | G14: 2403.6739 | H14: 3965.0094
B15: Norway | C15: 1755.9347 | D15: 1904.7939 | E15: 2223.4685 | F15: 2031.4008 | G15: 1572.42 | H15: 1930.6775
B16: Northern Ireland | C16: 993.103 | D16: 857.354 | E16: 1026.612 | F16: 2089.87 | G16: 2575.9 | H16: 2136.161
B17: Ireland | C17: - | D17: - | E17: - | F17: - | G17: - | H17: -
B18: Lithuania | C18: 1653.428 | D18: 1277.1 | E18: 2637.4259 | F18: 3623.9369 | G18: 3750.3319 | H18: 3540.8484
B19: India | C19: - | D19: - | E19: - | F19: - | G19: - | H19: -
B20: Estimated countries | C20: 1410.5822 | D20: - | E20: - | F20: - | G20: - | H20: -
B21: 1 From 2019, heat consumption for Sweden also included district cooling. The increase in heat consumption (MWh) in Sweden is mainly due to developments in some key offices in the country.
B22: 2 Due to changes in 2024 reporting system, estimated country consumption data is now in a different format, separate from country totals. This change is visible only from 2024, leaving previous years' data empty.
B23: 3 Heat consumption (MWh) also includes district cooling.
B25: Heat consumption per employee (MWh/FTE)1,2 | C25: 2024 | D25: 2023 | E25: 2022 | F25: 2021 | G25: 2020 | H25: 2019
B26: Total | C26: 2.1019124 | D26: 1.5861675 | E26: 1.9027326 | F26: 2.3278184 | G26: 2.1243636 | H26: 2.4637409
B27: Denmark | C27: 3.0050577 | D27: 2.3876978 | E27: 2.740156 | F27: 3.4141339 | G27: 2.9219488 | H27: 3.138466
B28: Finland | C28: 2.5041492 | D28: 2.4202053 | E28: 2.5935861 | F28: 2.1917291 | G28: 2.3001496 | H28: 3.3159341
B29: Sweden | C29: 2.095953 | D29: 1.283927 | E29: 1.4672427 | F29: 1.6980304 | G29: 1.6037627 | H29: 2.7320802
B30: Norway | C30: 1.8951275 | D30: 1.824862 | E30: 2.0620126 | F30: 1.8051533 | G30: 1.3655687 | H30: 1.7453775
B31: Northern Ireland | C31: 0.73655576 | D31: 0.62155621 | E31: 0.755442 | F31: 1.4772431 | G31: 1.8126494 | H31: 1.497713
B32: Ireland | C32: - | D32: - | E32: - | F32: - | G32: - | H32: -
B33: Lithuania | C33: 0.3753114 | D33: 0.30659401 | E33: 0.64730982 | F33: 0.93 | G33: 1.0007975 | H33: 1.11945
B34: India | C34: - | D34: - | E34: - | F34: - | G34: - | H34: -
B35: 1 From 2019, heat consumption for Sweden also included district cooling.
B36: 2 In 2024, the total heat consumption per employee (MWh/FTE) is calculated by dividing the total heat consumption by the total number of FTEs, including those in estimated countries.
B38: Heat consumption per m2 (kWh/m2) 1 | C38: 2024 | D38: 2023 | E38: 2022 | F38: 2021 | G38: 2020 | H38: 2019
B39: Total | C39: =C11/'[1]Energy consumption'!C10*1000 -> 90.644861 | D39: 73.126593 | E39: 87.859639 | F39: 100.30231 | G39: 88.387994 | H39: 94.78
B40: Denmark | C40: 97.859518 | D40: 88.38277 | E40: 112.01575 | F40: 129.21212 | G40: 109.55856 | H40: 109.01767
B41: Finland | C41: 82.326853 | D41: 76.837095 | E41: 81.410941 | F41: 72.139443 | G41: 65.951195 | H41: 88.724812
B42: Sweden | C42: 98.678907 | D42: 54.718069 | E42: 61.959871 | F42: 66.575791 | G42: 63.5732 | H42: 95.962037
B43: Norway | C43: 78.709698 | D43: 80.573405 | E43: 82.905899 | F43: 65.403243 | G43: 43.947542 | H43: 56.872224
B44: Northern Ireland | C44: 41.956189 | D44: 35.815368 | E44: 39.182713 | F44: 77.788464 | G44: 92.872515 | H44: 71.536725
B45: Ireland | C45: - | D45: - | E45: - | F45: - | G45: - | H45: -
B46: Lithuania | C46: 41.811304 | D46: 32.294854 | E46: 52.589292 | F46: 64.865751 | G46: 69.872962 | H46: 83.162808
B47: India | C47: - | D47: - | E47: - | F47: - | G47: - | H47: -
B48: 1 From 2019, heat consumption for Sweden also included district cooling.
...

Sheet Road transport
B4: Environment: Road transport
B6: Road transportation of the Danske Bank Group – all data is reported from Q4-Q3 and covers our main operations in Denmark, Finland, Sweden, Norway, Northern Ireland, Ireland, Lithuania and India.
B8: The Danske Bank Group sold its operations in India in 2023. Therefore, no data is available for India for 2024.
B10: Business travel by road — total (1,000 km) 1,2 | C10: 2024 | D10: 2023 | E10: 2022 | F10: 2021 | G10: 2020 | H10: 2019
B11: Total | C11: 10763.995 | D11: 12943.524 | E11: 12671.154 | F11: 10852 | G11: 16458 | H11: 21726
B12: Denmark | C12: 8608 | D12: 9682.362 | E12: 10255 | F12: 9247 | G12: 12568 | H12: 15348
B13: Finland | C13: 707.74 | D13: 620.501 | E13: 520.861 | F13: 402.936 | G13: 810.842 | H13: 1281.542
B14: Sweden | C14: 692.85 | D14: 558.323 | E14: 477.883 | F14: 471.753 | G14: 871.627 | H14: 1400.58
B15: Norway | C15: 138.261 | D15: 115.9882 | E15: 80.1425 | F15: 48.5502 | G15: 169.1598 | H15: 401.6385
B16: Northern Ireland | C16: 567.592 | D16: 498.0304 | E16: 410.2096 | F16: 177.1552 | G16: 650.2154 | H16: 960.68
B17: Ireland | C17: - | D17: - | E17: - | F17: - | G17: 12.28 | H17: -
B18: Lithuania | C18: 67.809375 | D18: 82.842 | E18: 138.83037 | F18: 172.4913 | G18: 308.594 | H18: 479.427
B19: India | C19: - | D19: 1385.477 | E19: 787.807 | F19: 332.902 | G19: 1068.099 | H19: 1853.91
B20: 1 In 2024, the total (1,000 km) includes manually estimated kilometres from converting litres consumed during business travel. This was done to ensure consistency and comparability with previous years' numbers as more litre data was available and used to estimate CO2e.
B21: 2 From 2019, road transportation for India also included vehicles available for employees commuting and where fuel and services are paid by Danske Bank.
B23: Business travel by road per employee (km/FTE) 1 | C23: 2024 | D23: 2023 | E23: 2022 | F23: 2021 | G23: 2020 | H23: 2019
B24: Total | C24: 552 | D24: 633.23564 | E24: 592.05721 | F24: 496.53508 | G24: 749.03164 | H24: 1046.1821
B25: Denmark | C25: 877 | D25: 990.13852 | E25: 984.43387 | F25: 855.94652 | G25: 1140.4545 | H25: 1443.7642
B26: Finland | C26: 463 | D26: 402.22455 | E26: 324.23836 | F26: 233.95907 | G26: 446.52549 | H26: 682.37202
B27: Sweden | C27: 481 | D27: 386.25816 | E27: 331.9255 | F27: 323.61722 | G27: 581.56095 | H27: 965.06627
B28: Norway | C28: 149 | D28: 111.12092 | E28: 70.314221 | F28: 43.146145 | G28: 146.90689 | H28: 363.09057
B29: Northern Ireland | C29: 421 | D29: 361.05726 | E29: 301.66071 | F29: 125.22014 | G29: 457.55369 | H29: 673.55549
B30: Ireland | C30: - | D30: - | E30: - | F30: - | G30: 248.84725 | H30: -
B31: Lithuania | C31: 15 | D31: 19.887919 | E31: 34.121116 | F31: 44.459385 | G31: 82.350073 | H31: 151.5723
B32: India | C32: - | D32: 996.64204 | E32: 573.66243 | F32: 236.56209 | G32: 841.54063 | H32: 1756.2846
B33: 1 From 2019, road transportation for India also included vehicles available for employees commuting and where fuel and services are paid by Danske Bank.
B35: Company vehicles (1,000 km) 1 | C35: 2024 | D35: 2023 | E35: 2022 | F35: 2021 | G35: 2020 | H35: 2019
B36: Total | C36: 65 | D36: 59.94 | E36: 53.104 | F36: 36.152 | G36: 41.7565 | H36: 28.906
B37: Denmark | C37: 65 | D37: 59.94 | E37: 53.104 | F37: 36.152 | G37: 41.7565 | H37: 28.906
B38: Finland | C38: - | D38: - | E38: - | F38: - | G38: - | H38: -
B39: Sweden | C39: - | D39: - | E39: - | F39: - | G39: - | H39: -
B40: Norway | C40: - | D40: - | E40: - | F40: - | G40: - | H40: -
B41: Northern Ireland | C41: - | D41: - | E41: - | F41: - | G41: - | H41: -
B42: Ireland | C42: - | D42: - | E42: - | F42: - | G42: - | H42: -
B43: Lithuania | C43: - | D43: - | E43: - | F43: - | G43: - | H43: -
B44: India | C44: - | D44: - | E44: - | F44: - | G44: - | H44: -
B45: 1 In 2024, the total (1,000 km) includes manually estimated kilometres from converting litres consumed during business travel. This was done to ensure consistency and comparability with previous years' numbers as more litre data was available and used to estimate CO2e.
B47: Employees’ cars (1,000km) 1,2 | C47: 2024 | D47: 2023 | E47: 2022 | F47: 2021 | G47: 2020 | H47: 2019
B48: Total | C48: =SUM(C49:C56) -> 10717.252 | D48: 12883.584 | E48: 12613.72 | F48: 10816.271 | G48: 16416.681 | H48: 21697.001
B49: Denmark | C49: 8543 | D49: 9622.422 | E49: 10202.317 | F49: 9210.483 | G49: 12525.864 | H49: 15319.224
...

Sheet Air transport
B4: Environment: Air transport
B6: Air transportation of the Danske Bank Group – covering our main operations in Denmark, Finland, Sweden, Norway, Northern Ireland, Ireland, Lithuania and India.
B8: The Danske Bank Group sold its operations in India in 2023. Therefore, no data is available for India for 2024.
B10: Business travel by air — total (1,000 km) 1,2 | C10: 2024 | D10: 2023 | E10: 2022 | F10: 2021 | G10: 2020 | H10: 2019
B11: Total | C11: 22307 | D11: 24588 | E11: 15054 | F11: 1631 | G11: 20450 | H11: 78774
B12: Denmark | C12: 11042.68 | D12: 13033.506 | E12: 6731.416 | F12: 951.91534 | G12: 13374.982 | H12: 43132.716
B13: Finland | C13: 2481.0283 | D13: 2353.7682 | E13: 1375.4942 | F13: 143.49465 | G13: 1783.5388 | H13: 7760.9275
B14: Sweden | C14: 1692.9559 | D14: 2000.9358 | E14: 1209.7953 | F14: 54.795041 | G14: 1669.2069 | H14: 5963.2386
B15: Norway | C15: 2592.2486 | D15: 2488.2879 | E15: 2650.0927 | F15: 95.741291 | G15: 2905.3179 | H15: 10873.764
B16: Northern Ireland | C16: 989.91598 | D16: 807.34543 | E16: 502.23194 | F16: 63.570102 | G16: 684.95367 | H16: 2130.0162
B17: Ireland | C17: 51.431029 | D17: 54.013914 | E17: 28.790923 | F17: 6.0109964 | G17: 31.561006 | H17: 128.84781
B18: Lithuania | C18: 3456.9234 | D18: 3849.6693 | E18: 2555.8366 | F18: 315.28628 | G18: 0.80900114 | H18: 8784.7571
B19: India | C19: - | D19: - | E19: - | F19: - | G19: - | H19: -
B20: 1 Following the restatement of air travel CO2e emissions, we also revised the data on air travel kilometres.
B21: 2 Kilometres for Q4 2018 are estimated using available air travel data from Q1, Q2, and Q3 2019, assuming similar travel patterns.
B23: Business travel by air per employee (km/FTE) | C23: 2024 | D23: 2023 | E23: 2022 | F23: 2021 | G23: 2020 | H23: 2019
B24: Total | C24: 1143 | D24: 1203 | E24: 704 | F24: 75 | G24: 931 | H24: 3793
B25: Denmark | C25: 1125 | D25: 1333 | E25: 646 | F25: 88 | G25: 1214 | H25: 4057
B26: Finland | C26: 1622 | D26: 1526 | E26: 857 | F26: 83 | G26: 982 | H26: 4132
B27: Sweden | C27: 1176 | D27: 1384 | E27: 840 | F27: 38 | G27: 1114 | H27: 4109
B28: Norway | C28: 2798 | D28: 2384 | E28: 2458 | F28: 85 | G28: 2523 | H28: 9830
B29: Northern Ireland | C29: 734 | D29: 585 | E29: 370 | F29: 45 | G29: 482 | H29: 1493
B30: Ireland | C30: 1142 | D30: 1200 | E30: 615 | F30: 131 | G30: 640 | H30: 2309
B31: Lithuania | C31: 785 | D31: 924 | E31: 627 | F31: 81 | G31: 0 | H31: 2777
B32: India | C32: - | D32: - | E32: - | F32: - | G32: - | H32: -

Sheet Paper consumption
B4: Environment: Paper consumption
B6: Paper consumption of the Danske Bank Group covers our main operations in Denmark, Finland, Sweden, Norway, Northern Ireland, Ireland, Lithuania and India.
B8: The Danske Bank Group sold its operations in India in 2023. Therefore, no data is available for 2024.
B10: Paper consumption — total (tonnes) | C10: 2024 | D10: 2023 | E10: 2022 | F10: 2021 | G10: 2020 | H10: 2019
B11: Total | C11: 198.92433 | D11: 201.5213 | E11: 200.87043 | F11: 199.17278 | G11: 295.76669 | H11: 394.98749
B12: Denmark | C12: 86.464524 | D12: 96.242213 | E12: 123.96773 | F12: 116.76291 | G12: 186.24472 | H12: 237.80805
B13: Finland | C13: 21.07169 | D13: 19.106149 | E13: 12.141609 | F13: 6.831636 | G13: 12.823319 | H13: 19.325983
B14: Sweden | C14: 43.044527 | D14: 44.506264 | E14: 12.527429 | F14: 6.141658 | G14: 11.537587 | H14: 22.432875
B15: Norway | C15: 8.5320435 | D15: 7.969703 | E15: 6.5440595 | F15: 5.014049 | G15: 4.90024 | H15: 9.0285895
B16: Northern Ireland | C16: 35.129268 | D16: 31.681626 | E16: 42.695188 | F16: 57.17338 | G16: 67.395106 | H16: 88.864865
B17: Ireland | C17: 0.530095 | D17: 0.9488 | E17: 0.70513 | F17: 1.153055 | G17: 2.064745 | H17: 0.29718
B18: Lithuania | C18: 4.15218 | D18: 0.474733 | E18: 1.97704 | F18: 5.788716 | G18: 9.980865 | H18: 15.917955
B19: India | C19: - | D19: 0.59181 | E19: 0.31224 | F19: 0.30737 | G19: 0.82011 | H19: 1.312
B21: Paper consumption per employee (kg/FTE) | C21: 2024 | D21: 2023 | E21: 2022 | F21: 2021 | G21: 2020 | H21: 2019
B22: Total | C22: 10.2 | D22: 9.6928632 | E22: 9.3935462 | F22: 9.1132014 | G22: 13.460489 | H22: 19.020097
B23: Denmark | C23: 8.8 | D23: 9.8419293 | E23: 11.912113 | F23: 10.808966 | G23: 16.900862 | H23: 22.37007
B24: Finland | C24: 13.8 | D24: 12.385092 | E24: 7.5744348 | F24: 3.9666924 | G24: 7.0617197 | H24: 10.290346
B25: Sweden | C25: 29.9 | D25: 30.790255 | E25: 8.6811636 | F25: 4.2131079 | G25: 7.6980292 | H25: 15.457318
B26: Norway | C26: 9.2 | D26: 7.6352658 | E26: 6.0773618 | F26: 4.4559422 | G26: 4.2556152 | H26: 8.1620554
B27: Northern Ireland | C27: 16.1 | D27: 22.968239 | E27: 31.41309 | F27: 40.412356 | G27: 47.425637 | H27: 62.305261
B28: Ireland | C28: 11.8 | D28: 30.790255 | E28: 15.003713 | F28: 25.066413 | G28: 41.840889 | H28: 5.3251005
B29: Lithuania | C29: 0.9 | D29: 0.11396938 | E29: 0.48724205 | F29: 1.4920332 | G29: 2.6634509 | H29: 5.0325099
B30: India | C30: - | D30: 0.42571816 | E30: 0.22776626 | F30: 0.2184189 | G30: 0.64615348 | H30: 1.2429112

Sheet Carbon neutralisation
B4: Environment: Carbon neutralisation
B6: CO2e emissions of the Danske Bank Group.
B8: The Danske Bank Group sold its operations in India in 2023. Therefore, no data is available for India for 2024.
B10: Total registered CO2e-emissions 1 | C10: 2024 | D10: 2023 | E10: 2022 | F10: 2021 | G10: 2020 | H10: 2019
B11: Total | C11: 10470.855 | D11: 11185.267 | E11: 9317.2156 | F11: 7342.0819 | G11: 12178.828 | H11: 22735.552
B12: Denmark | C12: 5628.1336 | D12: 6005.9431 | E12: 4939.9115 | F12: 4133.1639 | G12: 7312.8652 | H12: 13032.967
B13: Finland | C13: 973.91192 | D13: 1023.3653 | E13: 767.88631 | F13: 533.71943 | G13: 1093.7511 | H13: 2452.72
B14: Sweden | C14: 829.69772 | D14: 834.15478 | E14: 516.1533 | F14: 313.81268 | G14: 805.27071 | H14: 1656.2459
B15: Norway | C15: 728.18447 | D15: 707.31972 | E15: 646.46066 | F15: 58.240325 | G15: 736.30563 | H15: 2036.0135
B16: Northern Ireland | C16: 993.36503 | D16: 956.66106 | E16: 1012.9638 | F16: 1256.632 | G16: 1251.272 | H16: 1190.9714
B17: Ireland | C17: 28.447428 | D17: 28.659088 | E17: 29.260061 | F17: 25.884842 | G17: 24.215658 | H17: 25.176647
B18: Lithuania | C18: 1000.9157 | D18: 1033.6043 | E18: 763.63241 | F18: 474.11849 | G18: 318.86928 | H18: 1414.9549
B19: India | C19: - | D19: 345.42575 | E19: 511.23521 | F19: 473.01378 | G19: 510.12535 | H19: 393.81717
B20: Estimated CO2e | C20: 288.19876 | D20: 250.13355 | E20: 129.71235 | F20: 73.496448 | G20: 126.15348 | H20: 532.68458
B21: 1 Total has changed since 2019 due to restatements – see Breakdown of baseline changes.
B23: Neutralised by carbon credits from projects (tonnes) 1,2, 3,4 | C23: 2024 | D23: 2023 | E23: 2022 | F23: 2021 | G23: 2020 | H23: 2019
B24: Total | C24: 10875.787 | D24: 9292.2782 | E24: 6979.1636 | F24: 4733.3544 | G24: 7870.7537 | H24: =SUM(H25:H33) -> 15229.998
B25: Denmark | C25: 6033.0659 | D25: 5067.0968 | E25: 3162.633 | F25: 2759.4732 | G25: 4557.3737 | H25: 8041.3383
B26: Finland | C26: 973.91192 | D26: 828.70451 | E26: 563.25667 | F26: 484.3117 | G26: 948.15904 | H26: 2051.8522
B27: Sweden | C27: 829.69772 | D27: 652.79065 | E27: 434.12586 | F27: 333.81138 | G27: 578.35925 | H27: 1203.5557
B28: Norway | C28: 728.18447 | D28: 461.29292 | E28: 406.68191 | F28: 92.485803 | G28: 424.11322 | H28: 1261.5987
B29: Northern Ireland | C29: 993.36503 | D29: 912.9146 | E29: 1000.8713 | F29: 607.40946 | G29: 819.71335 | H29: 893.39137
B30: Ireland | C30: 28.447428 | D30: 27.511451 | E30: 27.230729 | F30: 1.8990777 | G30: 6.8833936 | H30: 10.122578
B31: Lithuania | C31: 1000.9157 | D31: 786.43389 | E31: 773.98375 | F31: 348.27125 | G31: 270.79677 | H31: 1076.9771
B32: India | C32: - | D32: 345.42575 | E32: 511.23521 | F32: 58.310928 | G32: 183.82618 | H32: 329.57738
B33: Estimated CO2e | C33: 288.19876 | D33: 210.10766 | E33: 99.145064 | F33: 47 | G33: 81.532826 | H33: 361.58436
B34: 1 We neutralise emissions by supporting certified carbon credit projects. See table below.
B35: 2 Offsetting is done on an annual basis based on total emissions for the current year at the time of reporting. Therefore, the neutralised tonnes differ from the total registered CO2e emissions as these have been restated in 2023 and 2024 (see Breakdown of baseline changes).
B36: 3 2019-2023 verified by third party.
B37: 4 The total CO2e neutralised by carbon credits in 2024 exceeds the total registered CO2e for the year due to corrections in our own operations' emissions caused by a double counting of Scope 2 emissions from heating in Denmark.
B39: Carbon Offset Projects purchased from 2009-2024 1,2
B40: Project Name | C40: Host Country | D40: Project Type | E40: Volume (tCO2e) | F40: Certification Standard | G40: Year of Purchase | H40: Link to registry | I40: Link to supplier description
B41: 100.5 MW Wind Power Project in Madhya Pradesh, India | C41: India | D41: Wind | E41: 20000 | F41: Gold Standard | G41: 2019 | H41: https://registry.goldstandard.org/projects/details/686
B42: 300 MW Wind Energy Project by Green Infra Wind Energy Limited | C42: India | D42: Wind | E42: 30000 | F42: Gold Standard | G42: 2020 | H42: https://registry.goldstandard.org/credit-blocks/details/148210
B43: Reforestation Project in Colombia | C43: Colombia | D43: Reforestation | E43: 2341 | F43: VCS and CCBS3 | G43: 2021 | H43: https://registry.verra.org/app/projectDetail/VCS/1769 | I43: https://www.southpole.com/projects/restoration-of-degraded-lands-in-jaguar-corridors-colombia
B44: Reforestation Project in Mexico | C44: Mexico | D44: Reforestation | E44: 6700 | F44: Verified Carbon Standard | G44: 2022 | H44: https://registry.verra.org/app/projectDetail/VCS/1740 | I44: https://www.southpole.com/projects/forest-restoration-with-teak
B45: Linshu Biogas Recovery and Power Generation Project | C45: China | D45: Renewable energy | E45: 279 | F45: Verified Carbon Standard | G45: 2022 | H45: https://registry.verra.org/app/projectDetail/VCS/2402 | I45: https://www.southpole.com/en/projects/linshu-wastewater-to-energy
B46: European biochar | C46: France | D46: Biochar | E46: 279 | F46: Awaiting ICROA certification4 | G46: 2022 | I46: https://platform.carbonfuture.earth/balancer/portfolios/view/main/79afec0d-a3a7-41f1-8902-ddd432364170
B47: Reforestation Project in Mexico | C47: Mexico | D47: Reforestation | E47: 8947 | F47: Verified Carbon Standard | G47: 2023 | H47: https://registry.verra.org/app/search/VCS?programType=ISSUANCE&exactResId=1740 | I47: https://www.southpole.com/projects/forest-restoration-with-teak
B48: Linshu Biogas Recovery and Power Generation Project | C48: China | D48: Renewable energy | E48: 345 | F48: Verified Carbon Standard | G48: 2023 | H48: https://registry.verra.org/app/search/VCS?programType=ISSUANCE&exactResId=2402 | I48: https://www.southpole.com/en/projects/linshu-wastewater-to-energy
...

Sheet Breakdown of indirect & direct 
B4: Environment: Breakdown of indirect and direct CO2e emissions
B6: Breakdown of indirect and direct CO2e emissions of the Danske Bank Group.
B8: In 2024, we updated our methodology for estimating Scope 3.6 business travel by air emissions. As a result, we restated emissions back to our baseline for own operations emissions (scope 1, 2, and current scope 3) – see Breakdown of baseline changes.
B10: The Danske Bank Group sold its operations in India in 2023. Therefore, no data is available for India for 2024.
B12: CO2e emissions scope 1 (direct CO2 emissions) 1,2 | C12: 2024 | D12: 2023 | E12: 2022 | F12: 2021 | G12: 2020 | H12: 2019
B13: Total | C13: 215.44735 | D13: 200.76072 | E13: =SUM(E14:E22) -> 244.61404 | F13: =SUM(F14:F22) -> 643.04729 | G13: =SUM(G14:G22) -> 651.4545 | H13: =SUM(H14:H22) -> 555.22274
B14: Denmark | C14: 6.5309718 | D14: 6.4931242 | E14: 9.0531699 | F14: 134.94975 | G14: 72.131264 | H14: 75.471343
B15: Finland | C15: - | D15: - | E15: - | F15: - | G15: - | H15: -
B16: Sweden | C16: - | D16: - | E16: - | F16: - | G16: - | H16: -
B17: Norway | C17: - | D17: - | E17: - | F17: - | G17: 1.38565 | H17: 1.573684
B18: Northern Ireland | C18: 202.99025 | D18: 189.7282 | E18: 232.1338 | F18: 501.66046 | G18: 571.12219 | H18: 464.99649
B19: Ireland | C19: - | D19: - | E19: - | F19: - | G19: - | H19: -
B20: Lithuania | C20: - | D20: - | E20: - | F20: - | G20: - | H20: -
B21: India | C21: - | D21: - | E21: - | F21: - | G21: - | H21: -
B22: Estimated CO2e emissions from operations without registered data | C22: 5.9261201 | D22: 4.5393998 | E22: 3.4270729 | F22: 6.4370829 | G22: 6.8153993 | H22: 13.181215
B23: 1 Direct CO2 emissions (scope 1) comprise emissions from electricity, heat and steam generated by the organisation (within the organisational boundaries) and usage of company vehicles.
B24: 2 2019-2023 verified by third party.
B26: CO2e emissions scope 1: Heating from consumption of oil and gas (tonnes) 1 | C26: 2024 | D26: 2023 | E26: 2022 | F26: 2021 | G26: 2020 | H26: 2019
B27: Total | C27: 208.73165 | D27: 194 | E27: 235.47898 | F27: 644.90357 | G27: 644.15481 | H27: 549.97966
B28: Denmark | C28: - | D28: - | E28: - | F28: 136.78735 | G28: 64.9742 | H28: 70.35209
B29: Finland | C29: - | D29: - | E29: - | F29: - | G29: - | H29: -
B30: Sweden | C30: - | D30: - | E30: - | F30: - | G30: - | H30: -
B31: Norway | C31: - | D31: - | E31: - | F31: - | G31: 1.38565 | H31: 1.573684
B32: Northern Ireland | C32: 202.99025 | D32: 189.7282 | E32: 232.1338 | F32: 501.66046 | G32: 571.12219 | H32: 464.99649
B33: Ireland | C33: - | D33: - | E33: - | F33: - | G33: - | H33: -
B34: Lithuania | C34: - | D34: - | E34: - | F34: - | G34: - | H34: -
B35: India | C35: - | D35: - | E35: - | F35: - | G35: - | H35: -
B36: Estimated CO2e emissions from operations without registered data | C36: 5.7413975 | D36: 4.3891874 | E36: 3.3451829 | F36: 6.4557543 | G36: 6.6727743 | H36: 13.057392
B37: 1 Direct CO2 emissions (scope 1) comprise emissions from electricity, heat and steam generated by the organisation (within the organisational boundaries) and usage of company vehicles.
B39: CO2e emissions scope 1: Use of company vehicles (tonnes) 1 | C39: 2024 | D39: 2023 | E39: 2022 | F39: 2021 | G39: 2020 | H39: 2019
B40: Total | C40: 6.7156945 | D40: 6.6433367 | E40: 9.1819496 | F40: 6.3654292 | G40: 7.232055 | H40: 5.2437789
B41: Denmark | C41: 6.5309718 | D41: 6.4931242 | E41: 9.0531699 | F41: 6.3016551 | G41: 7.1570641 | H41: 5.1192526
B42: Finland | C42: - | D42: - | E42: - | F42: - | G42: - | H42: -
B43: Sweden | C43: - | D43: - | E43: - | F43: - | G43: - | H43: -
B44: Norway | C44: - | D44: - | E44: - | F44: - | G44: - | H44: -
B45: Northern Ireland | C45: - | D45: - | E45: - | F45: - | G45: - | H45: -
B46: Ireland | C46: - | D46: - | E46: - | F46: - | G46: - | H46: -
B47: Lithuania | C47: - | D47: - | E47: - | F47: - | G47: - | H47: -
B48: India | C48: - | D48: - | E48: - | F48: - | G48: - | H48: -
B49: Estimated CO2e emissions from operations without registered data | C49: 0.18472269 | D49: 0.15021246 | E49: 0.12877966 | F49: 0.063774033 | G49: 0.074990914 | H49: 0.12452631
...

Sheet Other consumption
B4: Environment: Other consumption
B6: Other consumption of the Danske Bank Group.
B8: The Danske Bank Group sold its operations in India in 2023. Therefore, no data is available for 2024.
